BEGIN:VCALENDAR
VERSION:2.0
PRODID:JMS Hockey
X-PUBLISHED-TTL:P1W
BEGIN:VEVENT
UID:69e79fe2e9ffa
DTSTART:20140829T013000Z
SEQUENCE:0
TRANSP:OPAQUE
DTEND:20140829T013000Z
URL:http://jmshockey.com/league/game/99
LOCATION:Apple Valley Hayes Park Arena
SUMMARY:The Mighty Pucks vs. Rusty Razors at Apple Valley Hayes Park Arena 
 (Loon State Hockey Leagues)
CLASS:PUBLIC
DTSTAMP:20260421T110346Z
END:VEVENT
END:VCALENDAR