BEGIN:VCALENDAR
VERSION:2.0
PRODID:JMS Hockey
X-PUBLISHED-TTL:P1W
BEGIN:VEVENT
UID:69e7a40e4f72b
DTSTART:20170808T020000Z
SEQUENCE:0
TRANSP:OPAQUE
DTEND:20170808T031500Z
URL:http://jmshockey.com/league/game/971
LOCATION:Eden Prairie Comm Ctr
SUMMARY:The No Regretskys vs. U.S. Eh! at Eden Prairie Comm Ctr (Loon State
  Hockey Leagues)
CLASS:PUBLIC
DTSTAMP:20260421T112134Z
END:VEVENT
END:VCALENDAR