BEGIN:VCALENDAR
VERSION:2.0
PRODID:JMS Hockey
X-PUBLISHED-TTL:P1W
BEGIN:VEVENT
UID:69e78817a12ad
DTSTART:20170801T013000Z
SEQUENCE:0
TRANSP:OPAQUE
DTEND:20170801T024500Z
URL:http://jmshockey.com/league/game/969
LOCATION:Eden Prairie Comm Ctr
SUMMARY:The No Regretskys vs. Wildcats TWO at Eden Prairie Comm Ctr (Loon S
 tate Hockey Leagues)
CLASS:PUBLIC
DTSTAMP:20260421T092215Z
END:VEVENT
END:VCALENDAR