BEGIN:VCALENDAR
VERSION:2.0
PRODID:JMS Hockey
X-PUBLISHED-TTL:P1W
BEGIN:VEVENT
UID:69e79a9137de5
DTSTART:20170711T003000Z
SEQUENCE:0
TRANSP:OPAQUE
DTEND:20170711T014500Z
URL:http://jmshockey.com/league/game/962
LOCATION:Eden Prairie Comm Ctr
SUMMARY:Hockey Balboa vs. U.S. Eh! at Eden Prairie Comm Ctr (Loon State Hoc
 key Leagues)
CLASS:PUBLIC
DTSTAMP:20260421T104105Z
END:VEVENT
END:VCALENDAR