BEGIN:VCALENDAR
VERSION:2.0
PRODID:JMS Hockey
X-PUBLISHED-TTL:P1W
BEGIN:VEVENT
UID:69e79a915b051
DTSTART:20170620T003000Z
SEQUENCE:0
TRANSP:OPAQUE
DTEND:20170620T014500Z
URL:http://jmshockey.com/league/game/960
LOCATION:Eden Prairie Comm Ctr
SUMMARY:The No Regretskys vs. U.S. Eh! at Eden Prairie Comm Ctr (Loon State
  Hockey Leagues)
CLASS:PUBLIC
DTSTAMP:20260421T104105Z
END:VEVENT
END:VCALENDAR