BEGIN:VCALENDAR
VERSION:2.0
PRODID:JMS Hockey
X-PUBLISHED-TTL:P1W
BEGIN:VEVENT
UID:69e7afce142a4
DTSTART:20170813T233000Z
SEQUENCE:0
TRANSP:OPAQUE
DTEND:20170814T004500Z
URL:http://jmshockey.com/league/game/953
LOCATION:Eden Prairie Comm Ctr
SUMMARY:Pipe Layers vs. Skateful Dead at Eden Prairie Comm Ctr (Loon State 
 Hockey Leagues)
CLASS:PUBLIC
DTSTAMP:20260421T121142Z
END:VEVENT
END:VCALENDAR