BEGIN:VCALENDAR
VERSION:2.0
PRODID:JMS Hockey
X-PUBLISHED-TTL:P1W
BEGIN:VEVENT
UID:69e7cd2327c8a
DTSTART:20170723T233000Z
SEQUENCE:0
TRANSP:OPAQUE
DTEND:20170724T004500Z
URL:http://jmshockey.com/league/game/949
LOCATION:Eden Prairie Comm Ctr
SUMMARY:Beer League Racers vs. EP UL Summer 17 Team 2 at Eden Prairie Comm 
 Ctr (Loon State Hockey Leagues)
CLASS:PUBLIC
DTSTAMP:20260421T141651Z
END:VEVENT
END:VCALENDAR