BEGIN:VCALENDAR
VERSION:2.0
PRODID:JMS Hockey
X-PUBLISHED-TTL:P1W
BEGIN:VEVENT
UID:69e7c3e17463d
DTSTART:20170626T010000Z
SEQUENCE:0
TRANSP:OPAQUE
DTEND:20170626T021500Z
URL:http://jmshockey.com/league/game/946
LOCATION:Eden Prairie Comm Ctr
SUMMARY:Skateful Dead vs. Pipe Layers at Eden Prairie Comm Ctr (Loon State 
 Hockey Leagues)
CLASS:PUBLIC
DTSTAMP:20260421T133721Z
END:VEVENT
END:VCALENDAR