BEGIN:VCALENDAR
VERSION:2.0
PRODID:JMS Hockey
X-PUBLISHED-TTL:P1W
BEGIN:VEVENT
UID:69e77b71855d3
DTSTART:20170612T010000Z
SEQUENCE:0
TRANSP:OPAQUE
DTEND:20170612T021500Z
URL:http://jmshockey.com/league/game/928
LOCATION:Maple Grove
SUMMARY:Yetis vs. Mid-Ice Crisis at Maple Grove (Loon State Hockey Leagues)
CLASS:PUBLIC
DTSTAMP:20260421T082817Z
END:VEVENT
END:VCALENDAR