BEGIN:VCALENDAR
VERSION:2.0
PRODID:JMS Hockey
X-PUBLISHED-TTL:P1W
BEGIN:VEVENT
UID:69e77b9c4baf0
DTSTART:20170611T233000Z
SEQUENCE:0
TRANSP:OPAQUE
DTEND:20170612T004500Z
URL:http://jmshockey.com/league/game/927
LOCATION:Maple Grove
SUMMARY:Cluster Pucks vs. LA LA DUMBA at Maple Grove (Loon State Hockey Lea
 gues)
CLASS:PUBLIC
DTSTAMP:20260421T082900Z
END:VEVENT
END:VCALENDAR