BEGIN:VCALENDAR
VERSION:2.0
PRODID:JMS Hockey
X-PUBLISHED-TTL:P1W
BEGIN:VEVENT
UID:69e791d527237
DTSTART:20170515T023000Z
SEQUENCE:0
TRANSP:OPAQUE
DTEND:20170515T034500Z
URL:http://jmshockey.com/league/game/920
LOCATION:Maple Grove
SUMMARY:Yetis vs. lb Cakes at Maple Grove (Loon State Hockey Leagues)
CLASS:PUBLIC
DTSTAMP:20260421T100349Z
END:VEVENT
END:VCALENDAR