BEGIN:VCALENDAR
VERSION:2.0
PRODID:JMS Hockey
X-PUBLISHED-TTL:P1W
BEGIN:VEVENT
UID:69e791e8b14a6
DTSTART:20170430T233000Z
SEQUENCE:0
TRANSP:OPAQUE
DTEND:20170501T004500Z
URL:http://jmshockey.com/league/game/912
LOCATION:Maple Grove
SUMMARY:LA LA DUMBA vs. Mid-Ice Crisis at Maple Grove (Loon State Hockey Le
 agues)
CLASS:PUBLIC
DTSTAMP:20260421T100408Z
END:VEVENT
END:VCALENDAR