BEGIN:VCALENDAR
VERSION:2.0
PRODID:JMS Hockey
X-PUBLISHED-TTL:P1W
BEGIN:VEVENT
UID:69e77b72ef799
DTSTART:20170423T233000Z
SEQUENCE:0
TRANSP:OPAQUE
DTEND:20170424T004500Z
URL:http://jmshockey.com/league/game/909
LOCATION:Maple Grove
SUMMARY:Inglewood Jacks vs. Cluster Pucks at Maple Grove (Loon State Hockey
  Leagues)
CLASS:PUBLIC
DTSTAMP:20260421T082818Z
END:VEVENT
END:VCALENDAR