BEGIN:VCALENDAR
VERSION:2.0
PRODID:JMS Hockey
X-PUBLISHED-TTL:P1W
BEGIN:VEVENT
UID:69e79a8bdea05
DTSTART:20170417T010000Z
SEQUENCE:0
TRANSP:OPAQUE
DTEND:20170417T021500Z
URL:http://jmshockey.com/league/game/907
LOCATION:Maple Grove
SUMMARY:Yetis vs. Inglewood Jacks at Maple Grove (Loon State Hockey Leagues
 )
CLASS:PUBLIC
DTSTAMP:20260421T104059Z
END:VEVENT
END:VCALENDAR