BEGIN:VCALENDAR
VERSION:2.0
PRODID:JMS Hockey
X-PUBLISHED-TTL:P1W
BEGIN:VEVENT
UID:69e791d362025
DTSTART:20170416T233000Z
SEQUENCE:0
TRANSP:OPAQUE
DTEND:20170417T004500Z
URL:http://jmshockey.com/league/game/906
LOCATION:Maple Grove
SUMMARY:LA LA DUMBA vs. lb Cakes at Maple Grove (Loon State Hockey Leagues)
CLASS:PUBLIC
DTSTAMP:20260421T100347Z
END:VEVENT
END:VCALENDAR