BEGIN:VCALENDAR
VERSION:2.0
PRODID:JMS Hockey
X-PUBLISHED-TTL:P1W
BEGIN:VEVENT
UID:69e79a8e849bd
DTSTART:20170516T014500Z
SEQUENCE:0
TRANSP:OPAQUE
DTEND:20170516T030000Z
URL:http://jmshockey.com/league/game/897
LOCATION:Eden Prairie Comm Ctr
SUMMARY:EP 2/3 spring 17 team 3 vs. Team 2 at Eden Prairie Comm Ctr (Loon S
 tate Hockey Leagues)
CLASS:PUBLIC
DTSTAMP:20260421T104102Z
END:VEVENT
END:VCALENDAR