BEGIN:VCALENDAR
VERSION:2.0
PRODID:JMS Hockey
X-PUBLISHED-TTL:P1W
BEGIN:VEVENT
UID:69e79a92132b5
DTSTART:20140725T024500Z
SEQUENCE:0
TRANSP:OPAQUE
DTEND:20140725T024500Z
URL:http://jmshockey.com/league/game/89
LOCATION:Apple Valley Hayes Park Arena
SUMMARY:The Ugly Pucklings vs. Rusty Razors at Apple Valley Hayes Park Aren
 a (Loon State Hockey Leagues)
CLASS:PUBLIC
DTSTAMP:20260421T104106Z
END:VEVENT
END:VCALENDAR