BEGIN:VCALENDAR
VERSION:2.0
PRODID:JMS Hockey
X-PUBLISHED-TTL:P1W
BEGIN:VEVENT
UID:69e7ae0956d0c
DTSTART:20170411T013000Z
SEQUENCE:0
TRANSP:OPAQUE
DTEND:20170411T024500Z
URL:http://jmshockey.com/league/game/888
LOCATION:Eden Prairie Comm Ctr
SUMMARY:Minnesota Fourth Stars vs. EP 2/3 spring 17 team 3 at Eden Prairie 
 Comm Ctr (Loon State Hockey Leagues)
CLASS:PUBLIC
DTSTAMP:20260421T120409Z
END:VEVENT
END:VCALENDAR