BEGIN:VCALENDAR
VERSION:2.0
PRODID:JMS Hockey
X-PUBLISHED-TTL:P1W
BEGIN:VEVENT
UID:69e7afce81067
DTSTART:20170515T014500Z
SEQUENCE:0
TRANSP:OPAQUE
DTEND:20170515T030000Z
URL:http://jmshockey.com/league/game/885
LOCATION:Eden Prairie Comm Ctr
SUMMARY:Chirps 'n' Burps vs. Prestige World Wide at Eden Prairie Comm Ctr (
 Loon State Hockey Leagues)
CLASS:PUBLIC
DTSTAMP:20260421T121142Z
END:VEVENT
END:VCALENDAR