BEGIN:VCALENDAR
VERSION:2.0
PRODID:JMS Hockey
X-PUBLISHED-TTL:P1W
BEGIN:VEVENT
UID:69e7a7e891417
DTSTART:20170515T001500Z
SEQUENCE:0
TRANSP:OPAQUE
DTEND:20170515T013000Z
URL:http://jmshockey.com/league/game/884
LOCATION:Eden Prairie Comm Ctr
SUMMARY:Swansons vs. Kitten Mittens at Eden Prairie Comm Ctr (Loon State Ho
 ckey Leagues)
CLASS:PUBLIC
DTSTAMP:20260421T113800Z
END:VEVENT
END:VCALENDAR