BEGIN:VCALENDAR
VERSION:2.0
PRODID:JMS Hockey
X-PUBLISHED-TTL:P1W
BEGIN:VEVENT
UID:69e7af96b0274
DTSTART:20170507T234500Z
SEQUENCE:0
TRANSP:OPAQUE
DTEND:20170508T010000Z
URL:http://jmshockey.com/league/game/882
LOCATION:Eden Prairie Comm Ctr
SUMMARY:Prestige World Wide vs. Kitten Mittens at Eden Prairie Comm Ctr (Lo
 on State Hockey Leagues)
CLASS:PUBLIC
DTSTAMP:20260421T121046Z
END:VEVENT
END:VCALENDAR