BEGIN:VCALENDAR
VERSION:2.0
PRODID:JMS Hockey
X-PUBLISHED-TTL:P1W
BEGIN:VEVENT
UID:69e7bbb3dd158
DTSTART:20170501T010000Z
SEQUENCE:0
TRANSP:OPAQUE
DTEND:20170501T021500Z
URL:http://jmshockey.com/league/game/881
LOCATION:Eden Prairie Comm Ctr
SUMMARY:Kitten Mittens vs. Chirps 'n' Burps at Eden Prairie Comm Ctr (Loon 
 State Hockey Leagues)
CLASS:PUBLIC
DTSTAMP:20260421T130227Z
END:VEVENT
END:VCALENDAR