BEGIN:VCALENDAR
VERSION:2.0
PRODID:JMS Hockey
X-PUBLISHED-TTL:P1W
BEGIN:VEVENT
UID:69e7af94179b2
DTSTART:20140718T024500Z
SEQUENCE:0
TRANSP:OPAQUE
DTEND:20140718T024500Z
URL:http://jmshockey.com/league/game/88
LOCATION:Apple Valley Hayes Park Arena
SUMMARY:Rusty Razors vs. Gerihatricks at Apple Valley Hayes Park Arena (Loo
 n State Hockey Leagues)
CLASS:PUBLIC
DTSTAMP:20260421T121044Z
END:VEVENT
END:VCALENDAR