BEGIN:VCALENDAR
VERSION:2.0
PRODID:JMS Hockey
X-PUBLISHED-TTL:P1W
BEGIN:VEVENT
UID:69e78817f2982
DTSTART:20170508T014000Z
SEQUENCE:0
TRANSP:OPAQUE
DTEND:20170508T025000Z
URL:http://jmshockey.com/league/game/870
LOCATION:Doug Woog Arena (Wakota)
SUMMARY:Rubber Puckies vs. Hot Biscuits at Doug Woog Arena (Wakota) (Loon S
 tate Hockey Leagues)
CLASS:PUBLIC
DTSTAMP:20260421T092216Z
END:VEVENT
END:VCALENDAR