BEGIN:VCALENDAR
VERSION:2.0
PRODID:JMS Hockey
X-PUBLISHED-TTL:P1W
BEGIN:VEVENT
UID:69e79a89eafac
DTSTART:20170508T002000Z
SEQUENCE:0
TRANSP:OPAQUE
DTEND:20170508T013000Z
URL:http://jmshockey.com/league/game/869
LOCATION:Doug Woog Arena (Wakota)
SUMMARY:Don't Toews Me Bro vs. Soft Dump in the Corner at Doug Woog Arena (
 Wakota) (Loon State Hockey Leagues)
CLASS:PUBLIC
DTSTAMP:20260421T104057Z
END:VEVENT
END:VCALENDAR