BEGIN:VCALENDAR
VERSION:2.0
PRODID:JMS Hockey
X-PUBLISHED-TTL:P1W
BEGIN:VEVENT
UID:69e78a3acca5c
DTSTART:20170424T013000Z
SEQUENCE:0
TRANSP:OPAQUE
DTEND:20170424T024000Z
URL:http://jmshockey.com/league/game/853
LOCATION:Doug Woog Arena (Wakota)
SUMMARY:Minnesota Mild vs. Hatrick Swayze at Doug Woog Arena (Wakota) (Loon
  State Hockey Leagues)
CLASS:PUBLIC
DTSTAMP:20260421T093123Z
END:VEVENT
END:VCALENDAR