BEGIN:VCALENDAR
VERSION:2.0
PRODID:JMS Hockey
X-PUBLISHED-TTL:P1W
BEGIN:VEVENT
UID:69e7a40d21a0d
DTSTART:20170410T004000Z
SEQUENCE:0
TRANSP:OPAQUE
DTEND:20170410T015000Z
URL:http://jmshockey.com/league/game/851
LOCATION:Doug Woog Arena (Wakota)
SUMMARY:Hatrick Swayze vs. Trevor stole our name....again at Doug Woog Aren
 a (Wakota) (Loon State Hockey Leagues)
CLASS:PUBLIC
DTSTAMP:20260421T112133Z
END:VEVENT
END:VCALENDAR