BEGIN:VCALENDAR
VERSION:2.0
PRODID:JMS Hockey
X-PUBLISHED-TTL:P1W
BEGIN:VEVENT
UID:69e7c3e4cfc96
DTSTART:20170403T010000Z
SEQUENCE:0
TRANSP:OPAQUE
DTEND:20170403T021000Z
URL:http://jmshockey.com/league/game/849
LOCATION:Doug Woog Arena (Wakota)
SUMMARY:Trevor stole our name....again vs. Minnesota Mild at Doug Woog Aren
 a (Wakota) (Loon State Hockey Leagues)
CLASS:PUBLIC
DTSTAMP:20260421T133724Z
END:VEVENT
END:VCALENDAR