BEGIN:VCALENDAR
VERSION:2.0
PRODID:JMS Hockey
X-PUBLISHED-TTL:P1W
BEGIN:VEVENT
UID:69e77b7167a2b
DTSTART:20170213T023000Z
SEQUENCE:0
TRANSP:OPAQUE
DTEND:20170213T023100Z
URL:http://jmshockey.com/league/game/846
LOCATION:Hopkins Pavilion
SUMMARY:Black vs. White at Hopkins Pavilion (Loon State Hockey Leagues)
CLASS:PUBLIC
DTSTAMP:20260421T082817Z
END:VEVENT
END:VCALENDAR