BEGIN:VCALENDAR
VERSION:2.0
PRODID:JMS Hockey
X-PUBLISHED-TTL:P1W
BEGIN:VEVENT
UID:69e77b71122d2
DTSTART:20170109T023000Z
SEQUENCE:0
TRANSP:OPAQUE
DTEND:20170109T023100Z
URL:http://jmshockey.com/league/game/842
LOCATION:Hopkins Pavilion
SUMMARY:Black vs. White at Hopkins Pavilion (Loon State Hockey Leagues)
CLASS:PUBLIC
DTSTAMP:20260421T082817Z
END:VEVENT
END:VCALENDAR