BEGIN:VCALENDAR
VERSION:2.0
PRODID:JMS Hockey
X-PUBLISHED-TTL:P1W
BEGIN:VEVENT
UID:69e78816ba8c6
DTSTART:20170306T022000Z
SEQUENCE:0
TRANSP:OPAQUE
DTEND:20170306T033000Z
URL:http://jmshockey.com/league/game/824
LOCATION:Doug Woog Arena (Wakota)
SUMMARY:Hot Sauce vs. Slap Shart! at Doug Woog Arena (Wakota) (Loon State H
 ockey Leagues)
CLASS:PUBLIC
DTSTAMP:20260421T092214Z
END:VEVENT
END:VCALENDAR