BEGIN:VCALENDAR
VERSION:2.0
PRODID:JMS Hockey
X-PUBLISHED-TTL:P1W
BEGIN:VEVENT
UID:69e7b1a0cf881
DTSTART:20170130T034000Z
SEQUENCE:0
TRANSP:OPAQUE
DTEND:20170130T045000Z
URL:http://jmshockey.com/league/game/817
LOCATION:Doug Woog Arena (Wakota)
SUMMARY:Slap Shart! vs. Mother Puckers at Doug Woog Arena (Wakota) (Loon St
 ate Hockey Leagues)
CLASS:PUBLIC
DTSTAMP:20260421T121928Z
END:VEVENT
END:VCALENDAR