BEGIN:VCALENDAR
VERSION:2.0
PRODID:JMS Hockey
X-PUBLISHED-TTL:P1W
BEGIN:VEVENT
UID:69e7b5edbb042
DTSTART:20140620T013000Z
SEQUENCE:0
TRANSP:OPAQUE
DTEND:20140620T013000Z
URL:http://jmshockey.com/league/game/81
LOCATION:Apple Valley Hayes Park Arena
SUMMARY:Gerihatricks vs. Rusty Razors at Apple Valley Hayes Park Arena (Loo
 n State Hockey Leagues)
CLASS:PUBLIC
DTSTAMP:20260421T123749Z
END:VEVENT
END:VCALENDAR