BEGIN:VCALENDAR
VERSION:2.0
PRODID:JMS Hockey
X-PUBLISHED-TTL:P1W
BEGIN:VEVENT
UID:69e78e1d1917d
DTSTART:20170306T025000Z
SEQUENCE:0
TRANSP:OPAQUE
DTEND:20170306T040000Z
URL:http://jmshockey.com/league/game/806
LOCATION:Doug Woog Arena (Wakota)
SUMMARY:Hattrick Swayze vs. LAMPLIGHTERS at Doug Woog Arena (Wakota) (Loon 
 State Hockey Leagues)
CLASS:PUBLIC
DTSTAMP:20260421T094757Z
END:VEVENT
END:VCALENDAR