BEGIN:VCALENDAR
VERSION:2.0
PRODID:JMS Hockey
X-PUBLISHED-TTL:P1W
BEGIN:VEVENT
UID:69e7a7ea04f0d
DTSTART:20170227T034000Z
SEQUENCE:0
TRANSP:OPAQUE
DTEND:20170227T045000Z
URL:http://jmshockey.com/league/game/804
LOCATION:Doug Woog Arena (Wakota)
SUMMARY:Minnesota Mild vs. Hattrick Swayze at Doug Woog Arena (Wakota) (Loo
 n State Hockey Leagues)
CLASS:PUBLIC
DTSTAMP:20260421T113802Z
END:VEVENT
END:VCALENDAR