BEGIN:VCALENDAR
VERSION:2.0
PRODID:JMS Hockey
X-PUBLISHED-TTL:P1W
BEGIN:VEVENT
UID:69e79a91d6372
DTSTART:20170213T034000Z
SEQUENCE:0
TRANSP:OPAQUE
DTEND:20170213T045000Z
URL:http://jmshockey.com/league/game/800
LOCATION:Doug Woog Arena (Wakota)
SUMMARY:LAMPLIGHTERS vs. Hattrick Swayze at Doug Woog Arena (Wakota) (Loon 
 State Hockey Leagues)
CLASS:PUBLIC
DTSTAMP:20260421T104105Z
END:VEVENT
END:VCALENDAR