BEGIN:VCALENDAR
VERSION:2.0
PRODID:JMS Hockey
X-PUBLISHED-TTL:P1W
BEGIN:VEVENT
UID:69e7964d8b408
DTSTART:20170130T032000Z
SEQUENCE:0
TRANSP:OPAQUE
DTEND:20170130T043000Z
URL:http://jmshockey.com/league/game/798
LOCATION:Doug Woog Arena (Wakota)
SUMMARY:Minnesota Mild vs. Hattrick Swayze at Doug Woog Arena (Wakota) (Loo
 n State Hockey Leagues)
CLASS:PUBLIC
DTSTAMP:20260421T102253Z
END:VEVENT
END:VCALENDAR