BEGIN:VCALENDAR
VERSION:2.0
PRODID:JMS Hockey
X-PUBLISHED-TTL:P1W
BEGIN:VEVENT
UID:69e7c3e8302b5
DTSTART:20170320T011500Z
SEQUENCE:0
TRANSP:OPAQUE
DTEND:20170320T023000Z
URL:http://jmshockey.com/league/game/792
LOCATION:Eden Prairie Comm Ctr
SUMMARY:EP UL Winter 17 Team 1 vs. Moose at Eden Prairie Comm Ctr (Loon Sta
 te Hockey Leagues)
CLASS:PUBLIC
DTSTAMP:20260421T133728Z
END:VEVENT
END:VCALENDAR