BEGIN:VCALENDAR
VERSION:2.0
PRODID:JMS Hockey
X-PUBLISHED-TTL:P1W
BEGIN:VEVENT
UID:69e7c3e576144
DTSTART:20170306T023000Z
SEQUENCE:0
TRANSP:OPAQUE
DTEND:20170306T034500Z
URL:http://jmshockey.com/league/game/789
LOCATION:Eden Prairie Comm Ctr
SUMMARY:EP UL Winter 17 Team 1 vs. RowTheBoat at Eden Prairie Comm Ctr (Loo
 n State Hockey Leagues)
CLASS:PUBLIC
DTSTAMP:20260421T133725Z
END:VEVENT
END:VCALENDAR