BEGIN:VCALENDAR
VERSION:2.0
PRODID:JMS Hockey
X-PUBLISHED-TTL:P1W
BEGIN:VEVENT
UID:69e7c5569c2fe
DTSTART:20170220T014500Z
SEQUENCE:0
TRANSP:OPAQUE
DTEND:20170220T030000Z
URL:http://jmshockey.com/league/game/784
LOCATION:Eden Prairie Comm Ctr
SUMMARY:RowTheBoat vs. SinkTheBoat at Eden Prairie Comm Ctr (Loon State Hoc
 key Leagues)
CLASS:PUBLIC
DTSTAMP:20260421T134334Z
END:VEVENT
END:VCALENDAR