BEGIN:VCALENDAR
VERSION:2.0
PRODID:JMS Hockey
X-PUBLISHED-TTL:P1W
BEGIN:VEVENT
UID:69e7c3e69dfe1
DTSTART:20170123T031500Z
SEQUENCE:0
TRANSP:OPAQUE
DTEND:20170123T043000Z
URL:http://jmshockey.com/league/game/778
LOCATION:Eden Prairie Comm Ctr
SUMMARY:Moose vs. EP UL Winter 17 Team 1 at Eden Prairie Comm Ctr (Loon Sta
 te Hockey Leagues)
CLASS:PUBLIC
DTSTAMP:20260421T133726Z
END:VEVENT
END:VCALENDAR