BEGIN:VCALENDAR
VERSION:2.0
PRODID:JMS Hockey
X-PUBLISHED-TTL:P1W
BEGIN:VEVENT
UID:69e7cd3a26578
DTSTART:20170116T031500Z
SEQUENCE:0
TRANSP:OPAQUE
DTEND:20170116T043000Z
URL:http://jmshockey.com/league/game/776
LOCATION:Eden Prairie Comm Ctr
SUMMARY:SinkTheBoat vs. Moose at Eden Prairie Comm Ctr (Loon State Hockey L
 eagues)
CLASS:PUBLIC
DTSTAMP:20260421T141714Z
END:VEVENT
END:VCALENDAR