BEGIN:VCALENDAR
VERSION:2.0
PRODID:JMS Hockey
X-PUBLISHED-TTL:P1W
BEGIN:VEVENT
UID:69e7cd3a44d59
DTSTART:20170116T014500Z
SEQUENCE:0
TRANSP:OPAQUE
DTEND:20170116T030000Z
URL:http://jmshockey.com/league/game/775
LOCATION:Eden Prairie Comm Ctr
SUMMARY:EP UL Winter 17 Team 1 vs. RowTheBoat at Eden Prairie Comm Ctr (Loo
 n State Hockey Leagues)
CLASS:PUBLIC
DTSTAMP:20260421T141714Z
END:VEVENT
END:VCALENDAR