BEGIN:VCALENDAR
VERSION:2.0
PRODID:JMS Hockey
X-PUBLISHED-TTL:P1W
BEGIN:VEVENT
UID:69e7c79211758
DTSTART:20170109T031500Z
SEQUENCE:0
TRANSP:OPAQUE
DTEND:20170109T043000Z
URL:http://jmshockey.com/league/game/774
LOCATION:Eden Prairie Comm Ctr
SUMMARY:Moose vs. RowTheBoat at Eden Prairie Comm Ctr (Loon State Hockey Le
 agues)
CLASS:PUBLIC
DTSTAMP:20260421T135306Z
END:VEVENT
END:VCALENDAR