BEGIN:VCALENDAR
VERSION:2.0
PRODID:JMS Hockey
X-PUBLISHED-TTL:P1W
BEGIN:VEVENT
UID:69e7c3e691c47
DTSTART:20170109T014500Z
SEQUENCE:0
TRANSP:OPAQUE
DTEND:20170109T030000Z
URL:http://jmshockey.com/league/game/772
LOCATION:Eden Prairie Comm Ctr
SUMMARY:SinkTheBoat vs. EP UL Winter 17 Team 1 at Eden Prairie Comm Ctr (Lo
 on State Hockey Leagues)
CLASS:PUBLIC
DTSTAMP:20260421T133726Z
END:VEVENT
END:VCALENDAR