BEGIN:VCALENDAR
VERSION:2.0
PRODID:JMS Hockey
X-PUBLISHED-TTL:P1W
BEGIN:VEVENT
UID:69e7b5ee20dff
DTSTART:20140811T021500Z
SEQUENCE:0
TRANSP:OPAQUE
DTEND:20140811T021500Z
URL:http://jmshockey.com/league/game/77
LOCATION:Eden Prairie Comm Ctr
SUMMARY:Elsinore Eh vs. DISTRICT 5 at Eden Prairie Comm Ctr (Loon State Hoc
 key Leagues)
CLASS:PUBLIC
DTSTAMP:20260421T123750Z
END:VEVENT
END:VCALENDAR