BEGIN:VCALENDAR
VERSION:2.0
PRODID:JMS Hockey
X-PUBLISHED-TTL:P1W
BEGIN:VEVENT
UID:69e7afcc962cf
DTSTART:20161205T034000Z
SEQUENCE:0
TRANSP:OPAQUE
DTEND:20161205T045000Z
URL:http://jmshockey.com/league/game/768
LOCATION:Doug Woog Arena (Wakota)
SUMMARY:Uninsured Jagrbombs vs. Hot Dish at Doug Woog Arena (Wakota) (Loon 
 State Hockey Leagues)
CLASS:PUBLIC
DTSTAMP:20260421T121140Z
END:VEVENT
END:VCALENDAR