BEGIN:VCALENDAR
VERSION:2.0
PRODID:JMS Hockey
X-PUBLISHED-TTL:P1W
BEGIN:VEVENT
UID:69e7afd7ed9cc
DTSTART:20161114T034000Z
SEQUENCE:0
TRANSP:OPAQUE
DTEND:20161114T045000Z
URL:http://jmshockey.com/league/game/764
LOCATION:Doug Woog Arena (Wakota)
SUMMARY:Slapshart vs. Uninsured Jagrbombs at Doug Woog Arena (Wakota) (Loon
  State Hockey Leagues)
CLASS:PUBLIC
DTSTAMP:20260421T121151Z
END:VEVENT
END:VCALENDAR