BEGIN:VCALENDAR
VERSION:2.0
PRODID:JMS Hockey
X-PUBLISHED-TTL:P1W
BEGIN:VEVENT
UID:69e7c3e617a63
DTSTART:20161031T012000Z
SEQUENCE:0
TRANSP:OPAQUE
DTEND:20161031T023000Z
URL:http://jmshockey.com/league/game/759
LOCATION:Doug Woog Arena (Wakota)
SUMMARY:Slapshart vs. Hot Dish at Doug Woog Arena (Wakota) (Loon State Hock
 ey Leagues)
CLASS:PUBLIC
DTSTAMP:20260421T133726Z
END:VEVENT
END:VCALENDAR