BEGIN:VCALENDAR
VERSION:2.0
PRODID:JMS Hockey
X-PUBLISHED-TTL:P1W
BEGIN:VEVENT
UID:69e7ae08adaaa
DTSTART:20161024T030000Z
SEQUENCE:0
TRANSP:OPAQUE
DTEND:20161024T041000Z
URL:http://jmshockey.com/league/game/758
LOCATION:Doug Woog Arena (Wakota)
SUMMARY:Slapshart vs. Uninsured Jagrbombs at Doug Woog Arena (Wakota) (Loon
  State Hockey Leagues)
CLASS:PUBLIC
DTSTAMP:20260421T120408Z
END:VEVENT
END:VCALENDAR